BEGIN:VCALENDAR
VERSION:2.0
PRODID:-//pretix//pretix.eu//
BEGIN:VTIMEZONE
TZID:Europe/Berlin
BEGIN:STANDARD
DTSTART:20001029T040000
RRULE:FREQ=YEARLY;BYDAY=-1SU;BYMONTH=10
TZNAME:CET
TZOFFSETFROM:+0200
TZOFFSETTO:+0100
END:STANDARD
BEGIN:DAYLIGHT
DTSTART:20000326T030000
RRULE:FREQ=YEARLY;BYDAY=-1SU;BYMONTH=3
TZNAME:CEST
TZOFFSETFROM:+0100
TZOFFSETTO:+0200
END:DAYLIGHT
END:VTIMEZONE
BEGIN:VEVENT
UID:pretix-coworkkem-barista-0@events.coworking-kemnath.de
DTSTART;TZID=Europe/Berlin:20230126T190000
DTEND;TZID=Europe/Berlin:20230126T210000
DESCRIPTION:Tickets: https://events.coworking-kemnath.de/barista/\nVeransta
 lter: Coworkkem GmbH
DTSTAMP:20260421T081851Z
LOCATION:Coworking Kemnath\, Röntgenstr. 14\, 95478 Kemnath
SUMMARY:Barista Workshop
END:VEVENT
END:VCALENDAR
