BEGIN:VCALENDAR
VERSION:2.0
PRODID:-//pretix//pretix.eu//
BEGIN:VTIMEZONE
TZID:Europe/Berlin
BEGIN:STANDARD
DTSTART:20001029T040000
RRULE:FREQ=YEARLY;BYDAY=-1SU;BYMONTH=10
TZNAME:CET
TZOFFSETFROM:+0200
TZOFFSETTO:+0100
END:STANDARD
BEGIN:DAYLIGHT
DTSTART:20000326T030000
RRULE:FREQ=YEARLY;BYDAY=-1SU;BYMONTH=3
TZNAME:CEST
TZOFFSETFROM:+0100
TZOFFSETTO:+0200
END:DAYLIGHT
END:VTIMEZONE
BEGIN:VEVENT
UID:pretix-coworkkem-Gruender-0@events.coworking-kemnath.de
DTSTART;TZID=Europe/Berlin:20260417T150000
DTEND;TZID=Europe/Berlin:20260417T184500
DESCRIPTION:Tickets: https://events.coworking-kemnath.de/Gruender/\nVeranst
 alter: Coworkkem GmbH
DTSTAMP:20260424T112921Z
LOCATION:Coworking Kemnath
SUMMARY:GründerWerkstatt #1
END:VEVENT
BEGIN:VEVENT
UID:pretix-coworkkem-chefin-april-0@events.coworking-kemnath.de
DTSTART;TZID=Europe/Berlin:20260417T190000
DTEND;TZID=Europe/Berlin:20260417T210000
DESCRIPTION:Tickets: https://events.coworking-kemnath.de/chefin-april/\nVer
 anstalter: Coworkkem GmbH
DTSTAMP:20260424T112921Z
LOCATION:Coworking Kemnath
SUMMARY:Ich bin gerne Chefin... mit Viola Vogelsang-Reichl
END:VEVENT
BEGIN:VEVENT
UID:pretix-coworkkem-chaos-im-kopf-0@events.coworking-kemnath.de
DTSTART;TZID=Europe/Berlin:20260506T190000
DTEND;TZID=Europe/Berlin:20260506T210000
DESCRIPTION:Tickets: https://events.coworking-kemnath.de/chaos-im-kopf/\nVe
 ranstalter: Coworkkem GmbH
DTSTAMP:20260424T112921Z
LOCATION:Coworking Kemnath
SUMMARY:YoungLeader MeetUp - mit Rebecca Oberst und Nina Perl
END:VEVENT
BEGIN:VEVENT
UID:pretix-coworkkem-Gruender-2-0@events.coworking-kemnath.de
DTSTART;TZID=Europe/Berlin:20260519T153000
DTEND;TZID=Europe/Berlin:20260519T184500
DESCRIPTION:Tickets: https://events.coworking-kemnath.de/Gruender-2/\nVeran
 stalter: Coworkkem GmbH
DTSTAMP:20260424T112921Z
LOCATION:Coworking Kemnath
SUMMARY:GründerWerkstatt #2: Finanzierung\, Steuern & Recht – kostenlos!
END:VEVENT
BEGIN:VEVENT
UID:pretix-coworkkem-chefin-mai-0@events.coworking-kemnath.de
DTSTART;TZID=Europe/Berlin:20260519T190000
DTEND;TZID=Europe/Berlin:20260519T210000
DESCRIPTION:Tickets: https://events.coworking-kemnath.de/chefin-mai/\nVeran
 stalter: Coworkkem GmbH
DTSTAMP:20260424T112921Z
LOCATION:Coworking Kemnath
SUMMARY:Ich bin gerne Chefin... mit Elisabeth Zintl
END:VEVENT
BEGIN:VEVENT
UID:pretix-coworkkem-Gruender-3-0@events.coworking-kemnath.de
DTSTART;TZID=Europe/Berlin:20260709T153000
DTEND;TZID=Europe/Berlin:20260709T184500
DESCRIPTION:Tickets: https://events.coworking-kemnath.de/Gruender-3/\nVeran
 stalter: Coworkkem GmbH
DTSTAMP:20260424T112921Z
LOCATION:Coworking Kemnath
SUMMARY:GründerWerkstatt #3: Marketing & Vertrieb
END:VEVENT
BEGIN:VEVENT
UID:pretix-coworkkem-chefin-juli-0@events.coworking-kemnath.de
DTSTART;TZID=Europe/Berlin:20260709T190000
DTEND;TZID=Europe/Berlin:20260709T210000
DESCRIPTION:Tickets: https://events.coworking-kemnath.de/chefin-juli/\nVera
 nstalter: Coworkkem GmbH
DTSTAMP:20260424T112921Z
LOCATION:Coworking Kemnath
SUMMARY:Ich bin gerne Chefin... mit Julia Mahr und Sarah Regerer
END:VEVENT
BEGIN:VEVENT
UID:pretix-coworkkem-betterworkcamp2026-0@events.coworking-kemnath.de
DTSTART;TZID=Europe/Berlin:20261016T140000
DTEND;TZID=Europe/Berlin:20261016T190000
DESCRIPTION:Tickets: https://events.coworking-kemnath.de/betterworkcamp2026
 /\nVeranstalter: Coworkkem GmbH
DTSTAMP:20260424T112921Z
LOCATION:Coworking Kemnath
SUMMARY:#betterworkcamp
END:VEVENT
BEGIN:VEVENT
UID:pretix-coworkkem-chefin-okt-0@events.coworking-kemnath.de
DTSTART;TZID=Europe/Berlin:20261028T190000
DTEND;TZID=Europe/Berlin:20261028T210000
DESCRIPTION:Tickets: https://events.coworking-kemnath.de/chefin-okt/\nVeran
 stalter: Coworkkem GmbH
DTSTAMP:20260424T112921Z
LOCATION:Coworking Kemnath
SUMMARY:Ich bin gerne Chefin...
END:VEVENT
BEGIN:VEVENT
UID:pretix-coworkkem-Gruender-4-0@events.coworking-kemnath.de
DTSTART;TZID=Europe/Berlin:20261120T090000
DTEND;TZID=Europe/Berlin:20261120T120000
DESCRIPTION:Tickets: https://events.coworking-kemnath.de/Gruender-4/\nVeran
 stalter: Coworkkem GmbH
DTSTAMP:20260424T112921Z
LOCATION:Coworking Kemnath
SUMMARY:GründerWerkstatt #4: Kreativfrühstück: Ideen\, Planung & Pitch
END:VEVENT
END:VCALENDAR
